BEGIN:VCALENDAR
VERSION:2.0
BEGIN:VEVENT
DTSTART:20201127T060000Z
DTEND:20201127T100000Z
SUMMARY:Example event two
DESCRIPTION:This is an example of an event with multiple sessions.
LOCATION:St James Theatre, 77-87 Courtenay Pl, Wellington, 6011, New Zealand
END:VEVENT
END:VCALENDAR